{"text_format":"1","workbook":"xlsx","n_sheets":5,"sheets":["Things that annoy Me","Do for me","Wish I had right now","Top ideas","All"],"not_rendered":{"charts":0,"images":0,"macros":1,"external_links":0,"defined_names":0,"comments":0,"pivot_tables":0},"unopened":[],"bounds":{"document_bytes":16777216,"sheet_cells":100000,"rows_first":2000,"rows_last":500,"rows_between":2000,"halvings":0,"cell_chars":16384,"cell_head_chars":4096},"cells_cut":0,"cells_raw":0,"read":"whole","date_system":"1900"}

{"sheet":"Things that annoy Me","index":0,"n_rows":42,"n_cols":8,"rows_kept":42,"cut":false,"hidden":false,"merged":[[0,0,1,0],[0,1,1,1],[0,6,1,6],[0,7,1,7]]}
[null,"List","Purpose","Problem","Challenge","Money","Total Score","Rank"]
[null,null,"(1-5)","(1-5)","(1-5)","(1-5)"]
[1,null,null,null,null,null,{"$f":"IF(B3=\"\",\"\",SUM(C3:F3))","v":""},{"$f":"IF(B3=\"\",\"\",_xlfn.RANK.EQ(G3,$G$3:$G$42,0))","v":""}]
[2,null,null,null,null,null,"",{"$f":"IF(B4=\"\",\"\",_xlfn.RANK.EQ(G4,$G$3:$G$42,0))","v":""}]
[3,null,null,null,null,null,"",""]
[4,null,null,null,null,null,"",""]
[5,null,null,null,null,null,"",""]
[6,null,null,null,null,null,"",""]
[7,null,null,null,null,null,"",""]
[8,null,null,null,null,null,"",""]
[9,null,null,null,null,null,"",""]
[10,null,null,null,null,null,"",""]
[11,null,null,null,null,null,"",""]
[12,null,null,null,null,null,"",""]
[13,null,null,null,null,null,"",""]
[14,null,null,null,null,null,"",""]
[15,null,null,null,null,null,"",""]
[16,null,null,null,null,null,"",""]
[17,null,null,null,null,null,"",""]
[18,null,null,null,null,null,"",""]
[19,null,null,null,null,null,"",""]
[20,null,null,null,null,null,"",""]
[21,null,null,null,null,null,{"$f":"IF(B23=\"\",\"\",SUM(C23:F23))","v":""},""]
[22,null,null,null,null,null,"",""]
[23,null,null,null,null,null,"",""]
[24,null,null,null,null,null,"",""]
[25,null,null,null,null,null,"",""]
[26,null,null,null,null,null,"",""]
[27,null,null,null,null,null,"",""]
[28,null,null,null,null,null,"",""]
[29,null,null,null,null,null,"",""]
[30,null,null,null,null,null,"",""]
[31,null,null,null,null,null,"",""]
[32,null,null,null,null,null,"",""]
[33,null,null,null,null,null,"",""]
[34,null,null,null,null,null,"",""]
[35,null,null,null,null,null,"",""]
[36,null,null,null,null,null,"",""]
[37,null,null,null,null,null,"",""]
[38,null,null,null,null,null,"",""]
[39,null,null,null,null,null,"",""]
[40,null,null,null,null,null,"",""]

{"sheet":"Do for me","index":1,"n_rows":42,"n_cols":8,"rows_kept":42,"cut":false,"hidden":false,"merged":[[0,0,1,0],[0,1,1,1],[0,6,1,6],[0,7,1,7]]}
[null,"List","Purpose","Problem","Challenge","Money","Total Score","Rank"]
[null,null,"(1-5)","(1-5)","(1-5)","(1-5)"]
[1,null,null,null,null,null,{"$f":"IF(B3=\"\",\"\",SUM(C3:F3))","v":""},{"$f":"IF(B3=\"\",\"\",_xlfn.RANK.EQ(G3,$G$3:$G$42,0))","v":""}]
[2,null,null,null,null,null,"",{"$f":"IF(B4=\"\",\"\",_xlfn.RANK.EQ(G4,$G$3:$G$42,0))","v":""}]
[3,null,null,null,null,null,"",""]
[4,null,null,null,null,null,"",""]
[5,null,null,null,null,null,"",""]
[6,null,null,null,null,null,"",""]
[7,null,null,null,null,null,"",""]
[8,null,null,null,null,null,"",""]
[9,null,null,null,null,null,"",""]
[10,null,null,null,null,null,"",""]
[11,null,null,null,null,null,"",""]
[12,null,null,null,null,null,"",""]
[13,null,null,null,null,null,"",""]
[14,null,null,null,null,null,"",""]
[15,null,null,null,null,null,"",""]
[16,null,null,null,null,null,"",""]
[17,null,null,null,null,null,"",""]
[18,null,null,null,null,null,"",""]
[19,null,null,null,null,null,"",""]
[20,null,null,null,null,null,"",""]
[21,null,null,null,null,null,{"$f":"IF(B23=\"\",\"\",SUM(C23:F23))","v":""},""]
[22,null,null,null,null,null,"",""]
[23,null,null,null,null,null,"",""]
[24,null,null,null,null,null,"",""]
[25,null,null,null,null,null,"",""]
[26,null,null,null,null,null,"",""]
[27,null,null,null,null,null,"",""]
[28,null,null,null,null,null,"",""]
[29,null,null,null,null,null,"",""]
[30,null,null,null,null,null,"",""]
[31,null,null,null,null,null,"",""]
[32,null,null,null,null,null,"",""]
[33,null,null,null,null,null,"",""]
[34,null,null,null,null,null,"",""]
[35,null,null,null,null,null,"",""]
[36,null,null,null,null,null,"",""]
[37,null,null,null,null,null,"",""]
[38,null,null,null,null,null,"",""]
[39,null,null,null,null,null,"",""]
[40,null,null,null,null,null,"",""]

{"sheet":"Wish I had right now","index":2,"n_rows":42,"n_cols":8,"rows_kept":42,"cut":false,"hidden":false,"merged":[[0,0,1,0],[0,1,1,1],[0,6,1,6],[0,7,1,7]]}
[null,"List","Purpose","Problem","Challenge","Money","Total Score","Rank"]
[null,null,"(1-5)","(1-5)","(1-5)","(1-5)"]
[1,null,null,null,null,null,{"$f":"IF(B3=\"\",\"\",SUM(C3:F3))","v":""},{"$f":"IF(B3=\"\",\"\",_xlfn.RANK.EQ(G3,$G$3:$G$42,0))","v":""}]
[2,null,null,null,null,null,"",{"$f":"IF(B4=\"\",\"\",_xlfn.RANK.EQ(G4,$G$3:$G$42,0))","v":""}]
[3,null,null,null,null,null,"",""]
[4,null,null,null,null,null,"",""]
[5,null,null,null,null,null,"",""]
[6,null,null,null,null,null,"",""]
[7,null,null,null,null,null,"",""]
[8,null,null,null,null,null,"",""]
[9,null,null,null,null,null,"",""]
[10,null,null,null,null,null,"",""]
[11,null,null,null,null,null,"",""]
[12,null,null,null,null,null,"",""]
[13,null,null,null,null,null,"",""]
[14,null,null,null,null,null,"",""]
[15,null,null,null,null,null,"",""]
[16,null,null,null,null,null,"",""]
[17,null,null,null,null,null,"",""]
[18,null,null,null,null,null,"",""]
[19,null,null,null,null,null,"",""]
[20,null,null,null,null,null,"",""]
[21,null,null,null,null,null,{"$f":"IF(B23=\"\",\"\",SUM(C23:F23))","v":""},""]
[22,null,null,null,null,null,"",""]
[23,null,null,null,null,null,"",""]
[24,null,null,null,null,null,"",""]
[25,null,null,null,null,null,"",""]
[26,null,null,null,null,null,"",""]
[27,null,null,null,null,null,"",""]
[28,null,null,null,null,null,"",""]
[29,null,null,null,null,null,"",""]
[30,null,null,null,null,null,"",""]
[31,null,null,null,null,null,"",""]
[32,null,null,null,null,null,"",""]
[33,null,null,null,null,null,"",""]
[34,null,null,null,null,null,"",""]
[35,null,null,null,null,null,"",""]
[36,null,null,null,null,null,"",""]
[37,null,null,null,null,null,"",""]
[38,null,null,null,null,null,"",""]
[39,null,null,null,null,null,"",""]
[40,null,null,null,null,null,"",""]

{"sheet":"Top ideas","index":3,"n_rows":12,"n_cols":6,"rows_kept":12,"cut":false,"hidden":false,"merged":[[0,0,1,0],[1,5,2,10]]}
[]
[null,"Top Ten (or so) Business Ideas",null,null,null,"Press button below once all ideas have been entered in other sheets"]
[1,{"$f":"All!B2","v":0}]
[2,{"$f":"All!B3","v":0}]
[3,{"$f":"All!B4","v":0}]
[4,{"$f":"All!B5","v":0}]
[5,{"$f":"All!B6","v":0}]
[6,{"$f":"All!B7","v":0}]
[7,{"$f":"All!B8","v":0}]
[8,{"$f":"All!B9","v":0}]
[9,{"$f":"All!B10","v":0}]
[10,{"$f":"All!B11","v":0}]

{"sheet":"All","index":4,"n_rows":121,"n_cols":3,"rows_kept":121,"cut":false,"hidden":true,"merged":[]}
["Rank","Idea","Score"]
[{"$f":"IF(C2=\"\",\"\",_xlfn.RANK.EQ(C2,$C$2:$C$121,0))","v":""},{"$f":"'Do for me'!B27","v":0},{"$f":"'Do for me'!G27","v":""}]
[{"$f":"IF(C3=\"\",\"\",_xlfn.RANK.EQ(C3,$C$2:$C$121,0))","v":""},{"$f":"'Do for me'!B16","v":0},{"$f":"'Do for me'!G16","v":""}]
[{"$f":"IF(C4=\"\",\"\",_xlfn.RANK.EQ(C4,$C$2:$C$121,0))","v":""},{"$f":"'Do for me'!B40","v":0},{"$f":"'Do for me'!G40","v":""}]
[{"$f":"IF(C5=\"\",\"\",_xlfn.RANK.EQ(C5,$C$2:$C$121,0))","v":""},{"$f":"'Do for me'!B13","v":0},{"$f":"'Do for me'!G13","v":""}]
[{"$f":"IF(C6=\"\",\"\",_xlfn.RANK.EQ(C6,$C$2:$C$121,0))","v":""},{"$f":"'Do for me'!B14","v":0},{"$f":"'Do for me'!G14","v":""}]
[{"$f":"IF(C7=\"\",\"\",_xlfn.RANK.EQ(C7,$C$2:$C$121,0))","v":""},{"$f":"'Do for me'!B36","v":0},{"$f":"'Do for me'!G36","v":""}]
[{"$f":"IF(C8=\"\",\"\",_xlfn.RANK.EQ(C8,$C$2:$C$121,0))","v":""},{"$f":"'Do for me'!B4","v":0},{"$f":"'Do for me'!G4","v":""}]
[{"$f":"IF(C9=\"\",\"\",_xlfn.RANK.EQ(C9,$C$2:$C$121,0))","v":""},{"$f":"'Do for me'!B7","v":0},{"$f":"'Do for me'!G7","v":""}]
[{"$f":"IF(C10=\"\",\"\",_xlfn.RANK.EQ(C10,$C$2:$C$121,0))","v":""},{"$f":"'Do for me'!B17","v":0},{"$f":"'Do for me'!G17","v":""}]
[{"$f":"IF(C11=\"\",\"\",_xlfn.RANK.EQ(C11,$C$2:$C$121,0))","v":""},{"$f":"'Do for me'!B23","v":0},{"$f":"'Do for me'!G23","v":""}]
[{"$f":"IF(C12=\"\",\"\",_xlfn.RANK.EQ(C12,$C$2:$C$121,0))","v":""},{"$f":"'Do for me'!B24","v":0},{"$f":"'Do for me'!G24","v":""}]
[{"$f":"IF(C13=\"\",\"\",_xlfn.RANK.EQ(C13,$C$2:$C$121,0))","v":""},{"$f":"'Do for me'!B35","v":0},{"$f":"'Do for me'!G35","v":""}]
[{"$f":"IF(C14=\"\",\"\",_xlfn.RANK.EQ(C14,$C$2:$C$121,0))","v":""},{"$f":"'Wish I had right now'!B42","v":0},{"$f":"'Wish I had right now'!G42","v":""}]
[{"$f":"IF(C15=\"\",\"\",_xlfn.RANK.EQ(C15,$C$2:$C$121,0))","v":""},{"$f":"'Things that annoy Me'!B6","v":0},{"$f":"'Things that annoy Me'!G6","v":""}]
[{"$f":"IF(C16=\"\",\"\",_xlfn.RANK.EQ(C16,$C$2:$C$121,0))","v":""},{"$f":"'Do for me'!B3","v":0},{"$f":"'Do for me'!G3","v":""}]
[{"$f":"IF(C17=\"\",\"\",_xlfn.RANK.EQ(C17,$C$2:$C$121,0))","v":""},{"$f":"'Do for me'!B20","v":0},{"$f":"'Do for me'!G20","v":""}]
[{"$f":"IF(C18=\"\",\"\",_xlfn.RANK.EQ(C18,$C$2:$C$121,0))","v":""},{"$f":"'Do for me'!B25","v":0},{"$f":"'Do for me'!G25","v":""}]
[{"$f":"IF(C19=\"\",\"\",_xlfn.RANK.EQ(C19,$C$2:$C$121,0))","v":""},{"$f":"'Do for me'!B31","v":0},{"$f":"'Do for me'!G31","v":""}]
[{"$f":"IF(C20=\"\",\"\",_xlfn.RANK.EQ(C20,$C$2:$C$121,0))","v":""},{"$f":"'Do for me'!B37","v":0},{"$f":"'Do for me'!G37","v":""}]
[{"$f":"IF(C21=\"\",\"\",_xlfn.RANK.EQ(C21,$C$2:$C$121,0))","v":""},{"$f":"'Things that annoy Me'!B15","v":0},{"$f":"'Things that annoy Me'!G15","v":""}]
[{"$f":"IF(C22=\"\",\"\",_xlfn.RANK.EQ(C22,$C$2:$C$121,0))","v":""},{"$f":"'Things that annoy Me'!B18","v":0},{"$f":"'Things that annoy Me'!G18","v":""}]
[{"$f":"IF(C23=\"\",\"\",_xlfn.RANK.EQ(C23,$C$2:$C$121,0))","v":""},{"$f":"'Things that annoy Me'!B19","v":0},{"$f":"'Things that annoy Me'!G19","v":""}]
[{"$f":"IF(C24=\"\",\"\",_xlfn.RANK.EQ(C24,$C$2:$C$121,0))","v":""},{"$f":"'Do for me'!B33","v":0},{"$f":"'Do for me'!G33","v":""}]
[{"$f":"IF(C25=\"\",\"\",_xlfn.RANK.EQ(C25,$C$2:$C$121,0))","v":""},{"$f":"'Do for me'!B41","v":0},{"$f":"'Do for me'!G41","v":""}]
[{"$f":"IF(C26=\"\",\"\",_xlfn.RANK.EQ(C26,$C$2:$C$121,0))","v":""},{"$f":"'Do for me'!B42","v":0},{"$f":"'Do for me'!G42","v":""}]
[{"$f":"IF(C27=\"\",\"\",_xlfn.RANK.EQ(C27,$C$2:$C$121,0))","v":""},{"$f":"'Wish I had right now'!B8","v":0},{"$f":"'Wish I had right now'!G8","v":""}]
[{"$f":"IF(C28=\"\",\"\",_xlfn.RANK.EQ(C28,$C$2:$C$121,0))","v":""},{"$f":"'Wish I had right now'!B14","v":0},{"$f":"'Wish I had right now'!G14","v":""}]
[{"$f":"IF(C29=\"\",\"\",_xlfn.RANK.EQ(C29,$C$2:$C$121,0))","v":""},{"$f":"'Things that annoy Me'!B14","v":0},{"$f":"'Things that annoy Me'!G14","v":""}]
[{"$f":"IF(C30=\"\",\"\",_xlfn.RANK.EQ(C30,$C$2:$C$121,0))","v":""},{"$f":"'Things that annoy Me'!B22","v":0},{"$f":"'Things that annoy Me'!G22","v":""}]
[{"$f":"IF(C31=\"\",\"\",_xlfn.RANK.EQ(C31,$C$2:$C$121,0))","v":""},{"$f":"'Things that annoy Me'!B23","v":0},{"$f":"'Things that annoy Me'!G23","v":""}]
[{"$f":"IF(C32=\"\",\"\",_xlfn.RANK.EQ(C32,$C$2:$C$121,0))","v":""},{"$f":"'Things that annoy Me'!B33","v":0},{"$f":"'Things that annoy Me'!G33","v":""}]
[{"$f":"IF(C33=\"\",\"\",_xlfn.RANK.EQ(C33,$C$2:$C$121,0))","v":""},{"$f":"'Things that annoy Me'!B38","v":0},{"$f":"'Things that annoy Me'!G38","v":""}]
[{"$f":"IF(C34=\"\",\"\",_xlfn.RANK.EQ(C34,$C$2:$C$121,0))","v":""},{"$f":"'Things that annoy Me'!B42","v":0},{"$f":"'Things that annoy Me'!G42","v":""}]
[{"$f":"IF(C35=\"\",\"\",_xlfn.RANK.EQ(C35,$C$2:$C$121,0))","v":""},{"$f":"'Do for me'!B5","v":0},{"$f":"'Do for me'!G5","v":""}]
[{"$f":"IF(C36=\"\",\"\",_xlfn.RANK.EQ(C36,$C$2:$C$121,0))","v":""},{"$f":"'Do for me'!B8","v":0},{"$f":"'Do for me'!G8","v":""}]
[{"$f":"IF(C37=\"\",\"\",_xlfn.RANK.EQ(C37,$C$2:$C$121,0))","v":""},{"$f":"'Do for me'!B21","v":0},{"$f":"'Do for me'!G21","v":""}]
[{"$f":"IF(C38=\"\",\"\",_xlfn.RANK.EQ(C38,$C$2:$C$121,0))","v":""},{"$f":"'Do for me'!B26","v":0},{"$f":"'Do for me'!G26","v":""}]
[{"$f":"IF(C39=\"\",\"\",_xlfn.RANK.EQ(C39,$C$2:$C$121,0))","v":""},{"$f":"'Do for me'!B39","v":0},{"$f":"'Do for me'!G39","v":""}]
[{"$f":"IF(C40=\"\",\"\",_xlfn.RANK.EQ(C40,$C$2:$C$121,0))","v":""},{"$f":"'Wish I had right now'!B10","v":0},{"$f":"'Wish I had right now'!G10","v":""}]
[{"$f":"IF(C41=\"\",\"\",_xlfn.RANK.EQ(C41,$C$2:$C$121,0))","v":""},{"$f":"'Wish I had right now'!B16","v":0},{"$f":"'Wish I had right now'!G16","v":""}]
[{"$f":"IF(C42=\"\",\"\",_xlfn.RANK.EQ(C42,$C$2:$C$121,0))","v":""},{"$f":"'Wish I had right now'!B27","v":0},{"$f":"'Wish I had right now'!G27","v":""}]
[{"$f":"IF(C43=\"\",\"\",_xlfn.RANK.EQ(C43,$C$2:$C$121,0))","v":""},{"$f":"'Wish I had right now'!B28","v":0},{"$f":"'Wish I had right now'!G28","v":""}]
[{"$f":"IF(C44=\"\",\"\",_xlfn.RANK.EQ(C44,$C$2:$C$121,0))","v":""},{"$f":"'Wish I had right now'!B35","v":0},{"$f":"'Wish I had right now'!G35","v":""}]
[{"$f":"IF(C45=\"\",\"\",_xlfn.RANK.EQ(C45,$C$2:$C$121,0))","v":""},{"$f":"'Wish I had right now'!B37","v":0},{"$f":"'Wish I had right now'!G37","v":""}]
[{"$f":"IF(C46=\"\",\"\",_xlfn.RANK.EQ(C46,$C$2:$C$121,0))","v":""},{"$f":"'Wish I had right now'!B38","v":0},{"$f":"'Wish I had right now'!G38","v":""}]
[{"$f":"IF(C47=\"\",\"\",_xlfn.RANK.EQ(C47,$C$2:$C$121,0))","v":""},{"$f":"'Things that annoy Me'!B40","v":0},{"$f":"'Things that annoy Me'!G40","v":""}]
[{"$f":"IF(C48=\"\",\"\",_xlfn.RANK.EQ(C48,$C$2:$C$121,0))","v":""},{"$f":"'Do for me'!B9","v":0},{"$f":"'Do for me'!G9","v":""}]
[{"$f":"IF(C49=\"\",\"\",_xlfn.RANK.EQ(C49,$C$2:$C$121,0))","v":""},{"$f":"'Do for me'!B22","v":0},{"$f":"'Do for me'!G22","v":""}]
[{"$f":"IF(C50=\"\",\"\",_xlfn.RANK.EQ(C50,$C$2:$C$121,0))","v":""},{"$f":"'Do for me'!B28","v":0},{"$f":"'Do for me'!G28","v":""}]
[{"$f":"IF(C51=\"\",\"\",_xlfn.RANK.EQ(C51,$C$2:$C$121,0))","v":""},{"$f":"'Do for me'!B32","v":0},{"$f":"'Do for me'!G32","v":""}]
[{"$f":"IF(C52=\"\",\"\",_xlfn.RANK.EQ(C52,$C$2:$C$121,0))","v":""},{"$f":"'Do for me'!B34","v":0},{"$f":"'Do for me'!G34","v":""}]
[{"$f":"IF(C53=\"\",\"\",_xlfn.RANK.EQ(C53,$C$2:$C$121,0))","v":""},{"$f":"'Wish I had right now'!B9","v":0},{"$f":"'Wish I had right now'!G9","v":""}]
[{"$f":"IF(C54=\"\",\"\",_xlfn.RANK.EQ(C54,$C$2:$C$121,0))","v":""},{"$f":"'Wish I had right now'!B17","v":0},{"$f":"'Wish I had right now'!G17","v":""}]
[{"$f":"IF(C55=\"\",\"\",_xlfn.RANK.EQ(C55,$C$2:$C$121,0))","v":""},{"$f":"'Wish I had right now'!B31","v":0},{"$f":"'Wish I had right now'!G31","v":""}]
[{"$f":"IF(C56=\"\",\"\",_xlfn.RANK.EQ(C56,$C$2:$C$121,0))","v":""},{"$f":"'Things that annoy Me'!B30","v":0},{"$f":"'Things that annoy Me'!G30","v":""}]
[{"$f":"IF(C57=\"\",\"\",_xlfn.RANK.EQ(C57,$C$2:$C$121,0))","v":""},{"$f":"'Things that annoy Me'!B31","v":0},{"$f":"'Things that annoy Me'!G31","v":""}]
[{"$f":"IF(C58=\"\",\"\",_xlfn.RANK.EQ(C58,$C$2:$C$121,0))","v":""},{"$f":"'Things that annoy Me'!B39","v":0},{"$f":"'Things that annoy Me'!G39","v":""}]
[{"$f":"IF(C59=\"\",\"\",_xlfn.RANK.EQ(C59,$C$2:$C$121,0))","v":""},{"$f":"'Do for me'!B11","v":0},{"$f":"'Do for me'!G11","v":""}]
[{"$f":"IF(C60=\"\",\"\",_xlfn.RANK.EQ(C60,$C$2:$C$121,0))","v":""},{"$f":"'Do for me'!B30","v":0},{"$f":"'Do for me'!G30","v":""}]
[{"$f":"IF(C61=\"\",\"\",_xlfn.RANK.EQ(C61,$C$2:$C$121,0))","v":""},{"$f":"'Wish I had right now'!B23","v":0},{"$f":"'Wish I had right now'!G23","v":""}]
[{"$f":"IF(C62=\"\",\"\",_xlfn.RANK.EQ(C62,$C$2:$C$121,0))","v":""},{"$f":"'Wish I had right now'!B25","v":0},{"$f":"'Wish I had right now'!G25","v":""}]
[{"$f":"IF(C63=\"\",\"\",_xlfn.RANK.EQ(C63,$C$2:$C$121,0))","v":""},{"$f":"'Things that annoy Me'!B10","v":0},{"$f":"'Things that annoy Me'!G10","v":""}]
[{"$f":"IF(C64=\"\",\"\",_xlfn.RANK.EQ(C64,$C$2:$C$121,0))","v":""},{"$f":"'Things that annoy Me'!B13","v":0},{"$f":"'Things that annoy Me'!G13","v":""}]
[{"$f":"IF(C65=\"\",\"\",_xlfn.RANK.EQ(C65,$C$2:$C$121,0))","v":""},{"$f":"'Things that annoy Me'!B24","v":0},{"$f":"'Things that annoy Me'!G24","v":""}]
[{"$f":"IF(C66=\"\",\"\",_xlfn.RANK.EQ(C66,$C$2:$C$121,0))","v":""},{"$f":"'Things that annoy Me'!B29","v":0},{"$f":"'Things that annoy Me'!G29","v":""}]
[{"$f":"IF(C67=\"\",\"\",_xlfn.RANK.EQ(C67,$C$2:$C$121,0))","v":""},{"$f":"'Things that annoy Me'!B36","v":0},{"$f":"'Things that annoy Me'!G36","v":""}]
[{"$f":"IF(C68=\"\",\"\",_xlfn.RANK.EQ(C68,$C$2:$C$121,0))","v":""},{"$f":"'Do for me'!B6","v":0},{"$f":"'Do for me'!G6","v":""}]
[{"$f":"IF(C69=\"\",\"\",_xlfn.RANK.EQ(C69,$C$2:$C$121,0))","v":""},{"$f":"'Do for me'!B12","v":0},{"$f":"'Do for me'!G12","v":""}]
[{"$f":"IF(C70=\"\",\"\",_xlfn.RANK.EQ(C70,$C$2:$C$121,0))","v":""},{"$f":"'Do for me'!B18","v":0},{"$f":"'Do for me'!G18","v":""}]
[{"$f":"IF(C71=\"\",\"\",_xlfn.RANK.EQ(C71,$C$2:$C$121,0))","v":""},{"$f":"'Wish I had right now'!B4","v":0},{"$f":"'Wish I had right now'!G4","v":""}]
[{"$f":"IF(C72=\"\",\"\",_xlfn.RANK.EQ(C72,$C$2:$C$121,0))","v":""},{"$f":"'Wish I had right now'!B7","v":0},{"$f":"'Wish I had right now'!G7","v":""}]
[{"$f":"IF(C73=\"\",\"\",_xlfn.RANK.EQ(C73,$C$2:$C$121,0))","v":""},{"$f":"'Wish I had right now'!B12","v":0},{"$f":"'Wish I had right now'!G12","v":""}]
[{"$f":"IF(C74=\"\",\"\",_xlfn.RANK.EQ(C74,$C$2:$C$121,0))","v":""},{"$f":"'Wish I had right now'!B13","v":0},{"$f":"'Wish I had right now'!G13","v":""}]
[{"$f":"IF(C75=\"\",\"\",_xlfn.RANK.EQ(C75,$C$2:$C$121,0))","v":""},{"$f":"'Wish I had right now'!B21","v":0},{"$f":"'Wish I had right now'!G21","v":""}]
[{"$f":"IF(C76=\"\",\"\",_xlfn.RANK.EQ(C76,$C$2:$C$121,0))","v":""},{"$f":"'Wish I had right now'!B32","v":0},{"$f":"'Wish I had right now'!G32","v":""}]
[{"$f":"IF(C77=\"\",\"\",_xlfn.RANK.EQ(C77,$C$2:$C$121,0))","v":""},{"$f":"'Wish I had right now'!B33","v":0},{"$f":"'Wish I had right now'!G33","v":""}]
[{"$f":"IF(C78=\"\",\"\",_xlfn.RANK.EQ(C78,$C$2:$C$121,0))","v":""},{"$f":"'Wish I had right now'!B36","v":0},{"$f":"'Wish I had right now'!G36","v":""}]
[{"$f":"IF(C79=\"\",\"\",_xlfn.RANK.EQ(C79,$C$2:$C$121,0))","v":""},{"$f":"'Wish I had right now'!B39","v":0},{"$f":"'Wish I had right now'!G39","v":""}]
[{"$f":"IF(C80=\"\",\"\",_xlfn.RANK.EQ(C80,$C$2:$C$121,0))","v":""},{"$f":"'Things that annoy Me'!B7","v":0},{"$f":"'Things that annoy Me'!G7","v":""}]
[{"$f":"IF(C81=\"\",\"\",_xlfn.RANK.EQ(C81,$C$2:$C$121,0))","v":""},{"$f":"'Things that annoy Me'!B8","v":0},{"$f":"'Things that annoy Me'!G8","v":""}]
[{"$f":"IF(C82=\"\",\"\",_xlfn.RANK.EQ(C82,$C$2:$C$121,0))","v":""},{"$f":"'Things that annoy Me'!B16","v":0},{"$f":"'Things that annoy Me'!G16","v":""}]
[{"$f":"IF(C83=\"\",\"\",_xlfn.RANK.EQ(C83,$C$2:$C$121,0))","v":""},{"$f":"'Things that annoy Me'!B26","v":0},{"$f":"'Things that annoy Me'!G26","v":""}]
[{"$f":"IF(C84=\"\",\"\",_xlfn.RANK.EQ(C84,$C$2:$C$121,0))","v":""},{"$f":"'Things that annoy Me'!B27","v":0},{"$f":"'Things that annoy Me'!G27","v":""}]
[{"$f":"IF(C85=\"\",\"\",_xlfn.RANK.EQ(C85,$C$2:$C$121,0))","v":""},{"$f":"'Things that annoy Me'!B28","v":0},{"$f":"'Things that annoy Me'!G28","v":""}]
[{"$f":"IF(C86=\"\",\"\",_xlfn.RANK.EQ(C86,$C$2:$C$121,0))","v":""},{"$f":"'Do for me'!B15","v":0},{"$f":"'Do for me'!G15","v":""}]
[{"$f":"IF(C87=\"\",\"\",_xlfn.RANK.EQ(C87,$C$2:$C$121,0))","v":""},{"$f":"'Wish I had right now'!B3","v":0},{"$f":"'Wish I had right now'!G3","v":""}]
[{"$f":"IF(C88=\"\",\"\",_xlfn.RANK.EQ(C88,$C$2:$C$121,0))","v":""},{"$f":"'Wish I had right now'!B5","v":0},{"$f":"'Wish I had right now'!G5","v":""}]
[{"$f":"IF(C89=\"\",\"\",_xlfn.RANK.EQ(C89,$C$2:$C$121,0))","v":""},{"$f":"'Wish I had right now'!B6","v":0},{"$f":"'Wish I had right now'!G6","v":""}]
[{"$f":"IF(C90=\"\",\"\",_xlfn.RANK.EQ(C90,$C$2:$C$121,0))","v":""},{"$f":"'Wish I had right now'!B11","v":0},{"$f":"'Wish I had right now'!G11","v":""}]
[{"$f":"IF(C91=\"\",\"\",_xlfn.RANK.EQ(C91,$C$2:$C$121,0))","v":""},{"$f":"'Wish I had right now'!B19","v":0},{"$f":"'Wish I had right now'!G19","v":""}]
[{"$f":"IF(C92=\"\",\"\",_xlfn.RANK.EQ(C92,$C$2:$C$121,0))","v":""},{"$f":"'Wish I had right now'!B22","v":0},{"$f":"'Wish I had right now'!G22","v":""}]
[{"$f":"IF(C93=\"\",\"\",_xlfn.RANK.EQ(C93,$C$2:$C$121,0))","v":""},{"$f":"'Wish I had right now'!B34","v":0},{"$f":"'Wish I had right now'!G34","v":""}]
[{"$f":"IF(C94=\"\",\"\",_xlfn.RANK.EQ(C94,$C$2:$C$121,0))","v":""},{"$f":"'Things that annoy Me'!B4","v":0},{"$f":"'Things that annoy Me'!G4","v":""}]
[{"$f":"IF(C95=\"\",\"\",_xlfn.RANK.EQ(C95,$C$2:$C$121,0))","v":""},{"$f":"'Things that annoy Me'!B21","v":0},{"$f":"'Things that annoy Me'!G21","v":""}]
[{"$f":"IF(C96=\"\",\"\",_xlfn.RANK.EQ(C96,$C$2:$C$121,0))","v":""},{"$f":"'Things that annoy Me'!B25","v":0},{"$f":"'Things that annoy Me'!G25","v":""}]
[{"$f":"IF(C97=\"\",\"\",_xlfn.RANK.EQ(C97,$C$2:$C$121,0))","v":""},{"$f":"'Things that annoy Me'!B32","v":0},{"$f":"'Things that annoy Me'!G32","v":""}]
[{"$f":"IF(C98=\"\",\"\",_xlfn.RANK.EQ(C98,$C$2:$C$121,0))","v":""},{"$f":"'Things that annoy Me'!B41","v":0},{"$f":"'Things that annoy Me'!G41","v":""}]
[{"$f":"IF(C99=\"\",\"\",_xlfn.RANK.EQ(C99,$C$2:$C$121,0))","v":""},{"$f":"'Do for me'!B10","v":0},{"$f":"'Do for me'!G10","v":""}]
[{"$f":"IF(C100=\"\",\"\",_xlfn.RANK.EQ(C100,$C$2:$C$121,0))","v":""},{"$f":"'Do for me'!B19","v":0},{"$f":"'Do for me'!G19","v":""}]
[{"$f":"IF(C101=\"\",\"\",_xlfn.RANK.EQ(C101,$C$2:$C$121,0))","v":""},{"$f":"'Wish I had right now'!B18","v":0},{"$f":"'Wish I had right now'!G18","v":""}]
[{"$f":"IF(C102=\"\",\"\",_xlfn.RANK.EQ(C102,$C$2:$C$121,0))","v":""},{"$f":"'Wish I had right now'!B20","v":0},{"$f":"'Wish I had right now'!G20","v":""}]
[{"$f":"IF(C103=\"\",\"\",_xlfn.RANK.EQ(C103,$C$2:$C$121,0))","v":""},{"$f":"'Wish I had right now'!B29","v":0},{"$f":"'Wish I had right now'!G29","v":""}]
[{"$f":"IF(C104=\"\",\"\",_xlfn.RANK.EQ(C104,$C$2:$C$121,0))","v":""},{"$f":"'Wish I had right now'!B41","v":0},{"$f":"'Wish I had right now'!G41","v":""}]
[{"$f":"IF(C105=\"\",\"\",_xlfn.RANK.EQ(C105,$C$2:$C$121,0))","v":""},{"$f":"'Things that annoy Me'!B5","v":0},{"$f":"'Things that annoy Me'!G5","v":""}]
[{"$f":"IF(C106=\"\",\"\",_xlfn.RANK.EQ(C106,$C$2:$C$121,0))","v":""},{"$f":"'Things that annoy Me'!B17","v":0},{"$f":"'Things that annoy Me'!G17","v":""}]
[{"$f":"IF(C107=\"\",\"\",_xlfn.RANK.EQ(C107,$C$2:$C$121,0))","v":""},{"$f":"'Things that annoy Me'!B20","v":0},{"$f":"'Things that annoy Me'!G20","v":""}]
[{"$f":"IF(C108=\"\",\"\",_xlfn.RANK.EQ(C108,$C$2:$C$121,0))","v":""},{"$f":"'Things that annoy Me'!B34","v":0},{"$f":"'Things that annoy Me'!G34","v":""}]
[{"$f":"IF(C109=\"\",\"\",_xlfn.RANK.EQ(C109,$C$2:$C$121,0))","v":""},{"$f":"'Things that annoy Me'!B35","v":0},{"$f":"'Things that annoy Me'!G35","v":""}]
[{"$f":"IF(C110=\"\",\"\",_xlfn.RANK.EQ(C110,$C$2:$C$121,0))","v":""},{"$f":"'Wish I had right now'!B24","v":0},{"$f":"'Wish I had right now'!G24","v":""}]
[{"$f":"IF(C111=\"\",\"\",_xlfn.RANK.EQ(C111,$C$2:$C$121,0))","v":""},{"$f":"'Wish I had right now'!B26","v":0},{"$f":"'Wish I had right now'!G26","v":""}]
[{"$f":"IF(C112=\"\",\"\",_xlfn.RANK.EQ(C112,$C$2:$C$121,0))","v":""},{"$f":"'Wish I had right now'!B30","v":0},{"$f":"'Wish I had right now'!G30","v":""}]
[{"$f":"IF(C113=\"\",\"\",_xlfn.RANK.EQ(C113,$C$2:$C$121,0))","v":""},{"$f":"'Wish I had right now'!B40","v":0},{"$f":"'Wish I had right now'!G40","v":""}]
[{"$f":"IF(C114=\"\",\"\",_xlfn.RANK.EQ(C114,$C$2:$C$121,0))","v":""},{"$f":"'Things that annoy Me'!B3","v":0},{"$f":"'Things that annoy Me'!G3","v":""}]
[{"$f":"IF(C115=\"\",\"\",_xlfn.RANK.EQ(C115,$C$2:$C$121,0))","v":""},{"$f":"'Things that annoy Me'!B9","v":0},{"$f":"'Things that annoy Me'!G9","v":""}]
[{"$f":"IF(C116=\"\",\"\",_xlfn.RANK.EQ(C116,$C$2:$C$121,0))","v":""},{"$f":"'Things that annoy Me'!B11","v":0},{"$f":"'Things that annoy Me'!G11","v":""}]
[{"$f":"IF(C117=\"\",\"\",_xlfn.RANK.EQ(C117,$C$2:$C$121,0))","v":""},{"$f":"'Things that annoy Me'!B12","v":0},{"$f":"'Things that annoy Me'!G12","v":""}]
[{"$f":"IF(C118=\"\",\"\",_xlfn.RANK.EQ(C118,$C$2:$C$121,0))","v":""},{"$f":"'Things that annoy Me'!B37","v":0},{"$f":"'Things that annoy Me'!G37","v":""}]
[{"$f":"IF(C119=\"\",\"\",_xlfn.RANK.EQ(C119,$C$2:$C$121,0))","v":""},{"$f":"'Do for me'!B29","v":0},{"$f":"'Do for me'!G29","v":""}]
[{"$f":"IF(C120=\"\",\"\",_xlfn.RANK.EQ(C120,$C$2:$C$121,0))","v":""},{"$f":"'Do for me'!B38","v":0},{"$f":"'Do for me'!G38","v":""}]
[{"$f":"IF(C121=\"\",\"\",_xlfn.RANK.EQ(C121,$C$2:$C$121,0))","v":""},{"$f":"'Wish I had right now'!B15","v":0},{"$f":"'Wish I had right now'!G15","v":""}]